BEGIN:VCALENDAR
VERSION:2.0
PRODID:-//UCLA Sustainability - ECPv6.15.20//NONSGML v1.0//EN
CALSCALE:GREGORIAN
METHOD:PUBLISH
X-WR-CALNAME:UCLA Sustainability
X-ORIGINAL-URL:https://sustain.ucla.edu
X-WR-CALDESC:Events for UCLA Sustainability
REFRESH-INTERVAL;VALUE=DURATION:PT1H
X-Robots-Tag:noindex
X-PUBLISHED-TTL:PT1H
BEGIN:VTIMEZONE
TZID:America/Los_Angeles
BEGIN:DAYLIGHT
TZOFFSETFROM:-0800
TZOFFSETTO:-0700
TZNAME:PDT
DTSTART:20230312T100000
END:DAYLIGHT
BEGIN:STANDARD
TZOFFSETFROM:-0700
TZOFFSETTO:-0800
TZNAME:PST
DTSTART:20231105T090000
END:STANDARD
BEGIN:DAYLIGHT
TZOFFSETFROM:-0800
TZOFFSETTO:-0700
TZNAME:PDT
DTSTART:20240310T100000
END:DAYLIGHT
BEGIN:STANDARD
TZOFFSETFROM:-0700
TZOFFSETTO:-0800
TZNAME:PST
DTSTART:20241103T090000
END:STANDARD
BEGIN:DAYLIGHT
TZOFFSETFROM:-0800
TZOFFSETTO:-0700
TZNAME:PDT
DTSTART:20250309T100000
END:DAYLIGHT
BEGIN:STANDARD
TZOFFSETFROM:-0700
TZOFFSETTO:-0800
TZNAME:PST
DTSTART:20251102T090000
END:STANDARD
END:VTIMEZONE
BEGIN:VEVENT
DTSTART;TZID=America/Los_Angeles:20240327T090000
DTEND;TZID=America/Los_Angeles:20240327T100000
DTSTAMP:20260424T033111
CREATED:20240326T214458Z
LAST-MODIFIED:20240326T214458Z
UID:20287-1711530000-1711533600@sustain.ucla.edu
SUMMARY:Window On: The Future of Net-Zero Buildings
DESCRIPTION:Buildings are responsible globally for 37% of carbon emissions and 34% of energy demand. How are reductions in carbon emission progressing as companies work toward sustainability goals? What are the emerging pressures from city governments to decarbonize quickly and the costs to businesses who fall behind? What are some solutions for firms to accelerate the process? \nREGISTER HERE
URL:https://sustain.ucla.edu/event/window-on-the-future-of-net-zero-buildings/
LOCATION:Online
ATTACH;FMTTYPE=image/png:https://sustain.ucla.edu/wp-content/uploads/2024/03/Window-On-March-2024-Email-Banner-600x200-1.png
END:VEVENT
BEGIN:VEVENT
DTSTART;TZID=America/Los_Angeles:20240327T100000
DTEND;TZID=America/Los_Angeles:20240327T113000
DTSTAMP:20260424T033111
CREATED:20240326T215134Z
LAST-MODIFIED:20240326T215134Z
UID:20297-1711533600-1711539000@sustain.ucla.edu
SUMMARY:C3E Webinar: Leveraging Data and Digitalization to Make the Grid More Visible\, Resilient\, and Clean
DESCRIPTION:Climate change presents a call to action to transform the energy ecosystem\, requiring us to change how we’ve planned\, fueled\, and operated the grid over the past 100 years. The United States has set bold decarbonization targets\, necessitating a sixfold growth in connected renewables annually and triple the current transmission capacity by 2035. This pace of change requires better information about our grid to enable decarbonization while ensuring resilience and affordability. This panel will discuss how a data-enabled and transparent grid facilitates the implementation of distributed energy resources (including virtual power plants) and how it empowers us to make optimal decisions about how we build and coordinate the grid of the future. \nREGISTER HERE \nImmediately following the webinar\, you are invited to an optional informal networking session with the panelists\, providing a chance for more Q&A\, interaction\, and career path-based questions and advice. When registering for the webinar\, please indicate if you are interested in the networking session to receive the separate networking session Zoom link. \nThe C3E webinar series provides a forum to hear the latest on clean energy topics from women who are making a difference. The goal of the quarterly webinars is to highlight the outstanding work of clean energy professionals in various fields and to foster discussion around clean energy opportunities and solutions.
URL:https://sustain.ucla.edu/event/c3e-webinar-leveraging-data-and-digitalization-to-make-the-grid-more-visible-resilient-and-clean/
LOCATION:Online
ATTACH;FMTTYPE=image/png:https://sustain.ucla.edu/wp-content/uploads/2023/09/c3e23.png
END:VEVENT
BEGIN:VEVENT
DTSTART;TZID=America/Los_Angeles:20240327T100000
DTEND;TZID=America/Los_Angeles:20240327T130000
DTSTAMP:20260424T033111
CREATED:20240326T214831Z
LAST-MODIFIED:20240326T214831Z
UID:20292-1711533600-1711544400@sustain.ucla.edu
SUMMARY:Deep-Tech Showcase: Energy & Clean Tech
DESCRIPTION:The session will run accordingly:\n6 awarded deep-tech start-ups with innovative and dual-use tech\, will give a 5-minute pitch to a panel of Federal Agency\, Venture Capital & Corporate decision makers. \nREGISTER HERE
URL:https://sustain.ucla.edu/event/deep-tech-showcase-energy-clean-tech/
LOCATION:Online
ATTACH;FMTTYPE=image/png:https://sustain.ucla.edu/wp-content/uploads/2024/03/deeptechcleanenergy.png
END:VEVENT
END:VCALENDAR