BEGIN:VCALENDAR
VERSION:2.0
PRODID:-//UCLA Sustainability - ECPv6.15.20//NONSGML v1.0//EN
CALSCALE:GREGORIAN
METHOD:PUBLISH
X-ORIGINAL-URL:https://sustain.ucla.edu
X-WR-CALDESC:Events for UCLA Sustainability
REFRESH-INTERVAL;VALUE=DURATION:PT1H
X-Robots-Tag:noindex
X-PUBLISHED-TTL:PT1H
BEGIN:VTIMEZONE
TZID:America/Los_Angeles
BEGIN:DAYLIGHT
TZOFFSETFROM:-0800
TZOFFSETTO:-0700
TZNAME:PDT
DTSTART:20240310T100000
END:DAYLIGHT
BEGIN:STANDARD
TZOFFSETFROM:-0700
TZOFFSETTO:-0800
TZNAME:PST
DTSTART:20241103T090000
END:STANDARD
BEGIN:DAYLIGHT
TZOFFSETFROM:-0800
TZOFFSETTO:-0700
TZNAME:PDT
DTSTART:20250309T100000
END:DAYLIGHT
BEGIN:STANDARD
TZOFFSETFROM:-0700
TZOFFSETTO:-0800
TZNAME:PST
DTSTART:20251102T090000
END:STANDARD
BEGIN:DAYLIGHT
TZOFFSETFROM:-0800
TZOFFSETTO:-0700
TZNAME:PDT
DTSTART:20260308T100000
END:DAYLIGHT
BEGIN:STANDARD
TZOFFSETFROM:-0700
TZOFFSETTO:-0800
TZNAME:PST
DTSTART:20261101T090000
END:STANDARD
END:VTIMEZONE
BEGIN:VEVENT
DTSTART;TZID=America/Los_Angeles:20250316T130000
DTEND;TZID=America/Los_Angeles:20250316T143000
DTSTAMP:20260425T070933
CREATED:20250307T200147Z
LAST-MODIFIED:20250307T200147Z
UID:22176-1742130000-1742135400@sustain.ucla.edu
SUMMARY:Sand Acknowledgment in Action: Lazaro Arvizu Jr.
DESCRIPTION:The second iteration of Sand Acknowledgment in Action with artist Lazaro Arvizu Jr. will focus on an artist-facilitated meditation and workshop centering on the creation of your own sand painting\, in response to the exhibition Fire Kinship: Southern California Native Ecology and Art. \nLazaro Arvizu Jr. is an artist\, educator\, musician\, and researcher dedicated to the culture of the first people of Los Angeles. Born in the Los Angeles Basin\, he is knowledgeable about the landscape and cosmology of the Gabrieleno culture. For over 20 years\, he has facilitated creative and meaningful cultural experiences for people of all ages and walks of life\, in many venues. \nREGISTER HERE \nImage Courtesy of the Artist
URL:https://sustain.ucla.edu/event/sand-acknowledgment-in-action-lazaro-arvizu-jr/
LOCATION:Fowler Museum
ATTACH;FMTTYPE=image/png:https://sustain.ucla.edu/wp-content/uploads/2025/03/1-26_lazzaro.png
ORGANIZER;CN="Fowler Museum":MAILTO:fowlerinfo@arts.ucla.edu
END:VEVENT
END:VCALENDAR