BEGIN:VCALENDAR
VERSION:2.0
PRODID:-//UCLA Sustainability - ECPv6.15.20//NONSGML v1.0//EN
CALSCALE:GREGORIAN
METHOD:PUBLISH
X-ORIGINAL-URL:https://sustain.ucla.edu
X-WR-CALDESC:Events for UCLA Sustainability
REFRESH-INTERVAL;VALUE=DURATION:PT1H
X-Robots-Tag:noindex
X-PUBLISHED-TTL:PT1H
BEGIN:VTIMEZONE
TZID:America/Los_Angeles
BEGIN:DAYLIGHT
TZOFFSETFROM:-0800
TZOFFSETTO:-0700
TZNAME:PDT
DTSTART:20250309T100000
END:DAYLIGHT
BEGIN:STANDARD
TZOFFSETFROM:-0700
TZOFFSETTO:-0800
TZNAME:PST
DTSTART:20251102T090000
END:STANDARD
BEGIN:DAYLIGHT
TZOFFSETFROM:-0800
TZOFFSETTO:-0700
TZNAME:PDT
DTSTART:20260308T100000
END:DAYLIGHT
BEGIN:STANDARD
TZOFFSETFROM:-0700
TZOFFSETTO:-0800
TZNAME:PST
DTSTART:20261101T090000
END:STANDARD
BEGIN:DAYLIGHT
TZOFFSETFROM:-0800
TZOFFSETTO:-0700
TZNAME:PDT
DTSTART:20270314T100000
END:DAYLIGHT
BEGIN:STANDARD
TZOFFSETFROM:-0700
TZOFFSETTO:-0800
TZNAME:PST
DTSTART:20271107T090000
END:STANDARD
END:VTIMEZONE
BEGIN:VEVENT
DTSTART;TZID=America/Los_Angeles:20260115T160000
DTEND;TZID=America/Los_Angeles:20260115T180000
DTSTAMP:20260425T111212
CREATED:20260115T012414Z
LAST-MODIFIED:20260115T012414Z
UID:24248-1768492800-1768500000@sustain.ucla.edu
SUMMARY:LA Fires One-Year Reflection: Workers in Action
DESCRIPTION:Join a panel discussion with the UCLA Labor Center\, UCLA Labor Occupational Safety and Health (LOSH) Program\, Instituto de Educación Popular del Sur de California (IDEPSCA)\, UCLA Center for Developing Leadership in Science\, and others. \nEvent format: In-person. Snacks will be provided. Street parking is available. \nREGISTER HERE
URL:https://sustain.ucla.edu/event/la-fires-one-year-reflection-workers-in-action/
LOCATION:UCLA James Lawson Jr. Worker Justice Center\, 675 S Park View St.\, Los Angeles\, CA\, 90057\, United States
ATTACH;FMTTYPE=image/png:https://sustain.ucla.edu/wp-content/uploads/2026/01/LA-Fires-One-year-Reflection-Workers-in-Action-FLyer-51.webp
END:VEVENT
BEGIN:VEVENT
DTSTART;TZID=America/Los_Angeles:20260115T220000
DTEND;TZID=America/Los_Angeles:20260115T220000
DTSTAMP:20260425T111212
CREATED:20260115T011942Z
LAST-MODIFIED:20260115T011942Z
UID:24246-1768514400-1768514400@sustain.ucla.edu
SUMMARY:Free Food from UCLA Dining Halls!
DESCRIPTION:Join Bruin Dine for food recovery events every Tuesday\, Wednesday\, and Thursday at 10PM in the SAC Basement (unless otherwise announced)! Please bring your own tupperware and utensils! \nFollow https://www.instagram.com/uclabruindine/ for additional updates!
URL:https://sustain.ucla.edu/event/free-food-from-ucla-dining-halls-45/
LOCATION:Conference Room 1 in the Student Activities Center Basement\, 220 Westwood Plaza\, Los Angeles\, CA\, 90095\, United States
ATTACH;FMTTYPE=image/png:https://sustain.ucla.edu/wp-content/uploads/2025/10/bdinefall25.png
ORGANIZER;CN="Bruin Dine":MAILTO:bruindine@gmail.com
END:VEVENT
END:VCALENDAR