BEGIN:VCALENDAR
VERSION:2.0
PRODID:-//UCLA Sustainability - ECPv6.15.20//NONSGML v1.0//EN
CALSCALE:GREGORIAN
METHOD:PUBLISH
X-ORIGINAL-URL:https://sustain.ucla.edu
X-WR-CALDESC:Events for UCLA Sustainability
REFRESH-INTERVAL;VALUE=DURATION:PT1H
X-Robots-Tag:noindex
X-PUBLISHED-TTL:PT1H
BEGIN:VTIMEZONE
TZID:America/Los_Angeles
BEGIN:DAYLIGHT
TZOFFSETFROM:-0800
TZOFFSETTO:-0700
TZNAME:PDT
DTSTART:20250309T100000
END:DAYLIGHT
BEGIN:STANDARD
TZOFFSETFROM:-0700
TZOFFSETTO:-0800
TZNAME:PST
DTSTART:20251102T090000
END:STANDARD
BEGIN:DAYLIGHT
TZOFFSETFROM:-0800
TZOFFSETTO:-0700
TZNAME:PDT
DTSTART:20260308T100000
END:DAYLIGHT
BEGIN:STANDARD
TZOFFSETFROM:-0700
TZOFFSETTO:-0800
TZNAME:PST
DTSTART:20261101T090000
END:STANDARD
BEGIN:DAYLIGHT
TZOFFSETFROM:-0800
TZOFFSETTO:-0700
TZNAME:PDT
DTSTART:20270314T100000
END:DAYLIGHT
BEGIN:STANDARD
TZOFFSETFROM:-0700
TZOFFSETTO:-0800
TZNAME:PST
DTSTART:20271107T090000
END:STANDARD
END:VTIMEZONE
BEGIN:VEVENT
DTSTART;TZID=America/Los_Angeles:20260117T100000
DTEND;TZID=America/Los_Angeles:20260117T110000
DTSTAMP:20260425T111224
CREATED:20260112T163903Z
LAST-MODIFIED:20260112T163903Z
UID:24203-1768644000-1768647600@sustain.ucla.edu
SUMMARY:January Drop-in UCLA Botanical Garden Tour
DESCRIPTION:Explore a living museum\, featuring collections of plants from around the globe! Join a Garden Educator for a free guided 1 hour tour\, and hear the stories of a selection of plants in the garden\, and their relevance to human society. All ages are welcome. \nMeet at the La Kretz Garden Pavilion at the northern end of the garden. Restrooms are available there.
URL:https://sustain.ucla.edu/event/january-drop-in-ucla-botanical-garden-tour/
LOCATION:UCLA Mildred E Mathias Botanical Garden\, La Kretz Garden Pavilion\, 707 Tiverton Dr\, Los Angeles\, CA\, 90095
ATTACH;FMTTYPE=image/jpeg:https://sustain.ucla.edu/wp-content/uploads/2024/01/botgardtourJan2024.jpeg
END:VEVENT
END:VCALENDAR