BEGIN:VCALENDAR
VERSION:2.0
PRODID:-//UCLA Sustainability - ECPv6.15.20//NONSGML v1.0//EN
CALSCALE:GREGORIAN
METHOD:PUBLISH
X-WR-CALNAME:UCLA Sustainability
X-ORIGINAL-URL:https://sustain.ucla.edu
X-WR-CALDESC:Events for UCLA Sustainability
REFRESH-INTERVAL;VALUE=DURATION:PT1H
X-Robots-Tag:noindex
X-PUBLISHED-TTL:PT1H
BEGIN:VTIMEZONE
TZID:America/Los_Angeles
BEGIN:DAYLIGHT
TZOFFSETFROM:-0800
TZOFFSETTO:-0700
TZNAME:PDT
DTSTART:20250309T100000
END:DAYLIGHT
BEGIN:STANDARD
TZOFFSETFROM:-0700
TZOFFSETTO:-0800
TZNAME:PST
DTSTART:20251102T090000
END:STANDARD
BEGIN:DAYLIGHT
TZOFFSETFROM:-0800
TZOFFSETTO:-0700
TZNAME:PDT
DTSTART:20260308T100000
END:DAYLIGHT
BEGIN:STANDARD
TZOFFSETFROM:-0700
TZOFFSETTO:-0800
TZNAME:PST
DTSTART:20261101T090000
END:STANDARD
BEGIN:DAYLIGHT
TZOFFSETFROM:-0800
TZOFFSETTO:-0700
TZNAME:PDT
DTSTART:20270314T100000
END:DAYLIGHT
BEGIN:STANDARD
TZOFFSETFROM:-0700
TZOFFSETTO:-0800
TZNAME:PST
DTSTART:20271107T090000
END:STANDARD
END:VTIMEZONE
BEGIN:VEVENT
DTSTART;TZID=America/Los_Angeles:20260128T100000
DTEND;TZID=America/Los_Angeles:20260128T110000
DTSTAMP:20260425T170109
CREATED:20260122T190626Z
LAST-MODIFIED:20260122T190626Z
UID:24282-1769594400-1769598000@sustain.ucla.edu
SUMMARY:Building Your Career at the Intersection of Climate and Health
DESCRIPTION:With climate change already reshaping the health of communities\, we need a public health workforce equipped to dynamically lead across professions\, solve problems creatively\, and translate science into practice. Join the Association of Schools & Programs of Public Health (ASPPH) for an energizing conversation designed for early- and mid-career professionals interested in exploring or advancing careers at the intersection of climate and health. \nREGISTER HERE
URL:https://sustain.ucla.edu/event/building-your-career-at-the-intersection-of-climate-and-health/
LOCATION:Online
ATTACH;FMTTYPE=image/jpeg:https://sustain.ucla.edu/wp-content/uploads/2026/01/Building-Your-Career-at-the-Intersection-of-Climate-and-Health1.webp
END:VEVENT
BEGIN:VEVENT
DTSTART;TZID=America/Los_Angeles:20260128T130000
DTEND;TZID=America/Los_Angeles:20260128T143000
DTSTAMP:20260425T170109
CREATED:20251217T190409Z
LAST-MODIFIED:20251217T190409Z
UID:24174-1769605200-1769610600@sustain.ucla.edu
SUMMARY:Music Sustainability Alliance Panel
DESCRIPTION:Join a dynamic conversation as part of the Berry Gordy Speaker Series\, hosted by Dr. Tiffany Naiman in collaboration with the Music Sustainability Alliance. This thought-provoking panel will feature David Koenig\, Program Director\, and Amy Morrison\, CEO\, Co-founder\, and Board Member of the Music Sustainability Alliance. \nTogether\, they will explore the intersection of the music industry\, sustainability\, and social impact\, offering insights into how the music industry can be a force for environmental and cultural change. From sustainable touring practices to green studio innovations\, the discussion will highlight actionable strategies and the critical role of education\, advocacy\, and industry collaboration. Dr. Naiman will guide the conversation through the lens of music history\, future-forward thinking\, and social responsibility. \nThis event is essential for students\, artists\, and professionals passionate about building a more equitable and sustainable music ecosystem. Don’t miss this opportunity to engage with leaders shaping the future of the music industry and sustainability.
URL:https://sustain.ucla.edu/event/music-sustainability-alliance-panel/
LOCATION:CA
END:VEVENT
BEGIN:VEVENT
DTSTART;TZID=America/Los_Angeles:20260128T220000
DTEND;TZID=America/Los_Angeles:20260128T220000
DTSTAMP:20260425T170109
CREATED:20260128T015323Z
LAST-MODIFIED:20260128T015323Z
UID:24305-1769637600-1769637600@sustain.ucla.edu
SUMMARY:Free Food from UCLA Dining Halls!
DESCRIPTION:Join Bruin Dine for food recovery events every Tuesday\, Wednesday\, and Thursday at 10PM in the SAC Basement (unless otherwise announced)! Please bring your own tupperware and utensils! \nFollow https://www.instagram.com/uclabruindine/ for additional updates!
URL:https://sustain.ucla.edu/event/free-food-from-ucla-dining-halls-48/
LOCATION:Conference Room 1 in the Student Activities Center Basement\, 220 Westwood Plaza\, Los Angeles\, CA\, 90095\, United States
ATTACH;FMTTYPE=image/png:https://sustain.ucla.edu/wp-content/uploads/2025/10/bdinefall25.png
ORGANIZER;CN="Bruin Dine":MAILTO:bruindine@gmail.com
END:VEVENT
END:VCALENDAR